BEGIN:VCALENDAR
VERSION:2.0
PRODID:-//Szkoła Podstawowa nr 1     - ECPv4.0.5//NONSGML v1.0//EN
CALSCALE:GREGORIAN
METHOD:PUBLISH
X-WR-CALNAME:Szkoła Podstawowa nr 1    
X-ORIGINAL-URL:http://spotmuchow.wodip.opole.pl
X-WR-CALDESC:Events for Szkoła Podstawowa nr 1    
BEGIN:VEVENT
DTSTART;TZID="Europe/Warsaw":20160114T080000
DTEND;TZID="Europe/Warsaw":20160114T170000
DTSTAMP:20260423T175747
CREATED:20160113T101902
LAST-MODIFIED:20160113T105433
UID:35-1452758400-1452790800@spotmuchow.wodip.opole.pl
SUMMARY:Testowe
DESCRIPTION:Dnia xyz odbędzie się xyz
URL:http://spotmuchow.wodip.opole.pl/event/testowe/
END:VEVENT
END:VCALENDAR